BEGIN:VCALENDAR
VERSION:2.0
PRODID:-//โรงเรียนผ่องสุวรรณวิทยา - ECPv6.15.14//NONSGML v1.0//EN
CALSCALE:GREGORIAN
METHOD:PUBLISH
X-WR-CALNAME:โรงเรียนผ่องสุวรรณวิทยา
X-ORIGINAL-URL:https://wp.pongsuwan.org
X-WR-CALDESC:Events for โรงเรียนผ่องสุวรรณวิทยา
REFRESH-INTERVAL;VALUE=DURATION:PT1H
X-Robots-Tag:noindex
X-PUBLISHED-TTL:PT1H
BEGIN:VTIMEZONE
TZID:Asia/Bangkok
BEGIN:STANDARD
TZOFFSETFROM:+0700
TZOFFSETTO:+0700
TZNAME:+07
DTSTART:20250101T000000
END:STANDARD
END:VTIMEZONE
BEGIN:VEVENT
DTSTART;TZID=Asia/Bangkok:20260420T090000
DTEND;TZID=Asia/Bangkok:20260506T150000
DTSTAMP:20260422T173646
CREATED:20260329T193706Z
LAST-MODIFIED:20260329T193706Z
UID:20297-1776675600-1778079600@wp.pongsuwan.org
SUMMARY:จำหน่ายแบบเรียนและเสื้อผ้านักเรียน ปีการศึกษา 2569
DESCRIPTION:จำหน่ายแบบเรียนและเสื้อผ้านักเรียน ปีการศึกษา 2569\nวันที่ 20 เมษายน – 6 พฤษภาคม 2569\nเวลา 9.00 -15.00 น. ทุกวัน ไม่เว้นวันหยุดราชการ
URL:https://wp.pongsuwan.org/event/%e0%b8%88%e0%b8%b3%e0%b8%ab%e0%b8%99%e0%b9%88%e0%b8%b2%e0%b8%a2%e0%b9%81%e0%b8%9a%e0%b8%9a%e0%b9%80%e0%b8%a3%e0%b8%b5%e0%b8%a2%e0%b8%99%e0%b9%81%e0%b8%a5%e0%b8%b0%e0%b9%80%e0%b8%aa%e0%b8%b7%e0%b9%89/
END:VEVENT
END:VCALENDAR